BEGIN:VCALENDAR
VERSION:2.0
PRODID:-//MRANI | Minorities Recognition Awards Northern Ireland - ECPv6.15.14//NONSGML v1.0//EN
CALSCALE:GREGORIAN
METHOD:PUBLISH
X-ORIGINAL-URL:https://www.minorityawardsni.org.uk
X-WR-CALDESC:Events for MRANI | Minorities Recognition Awards Northern Ireland
REFRESH-INTERVAL;VALUE=DURATION:PT1H
X-Robots-Tag:noindex
X-PUBLISHED-TTL:PT1H
BEGIN:VTIMEZONE
TZID:Europe/Dublin
BEGIN:STANDARD
TZOFFSETFROM:+0000
TZOFFSETTO:+0100
TZNAME:IST
DTSTART:20250330T010000
END:STANDARD
BEGIN:DAYLIGHT
TZOFFSETFROM:+0100
TZOFFSETTO:+0000
TZNAME:GMT
DTSTART:20251026T010000
END:DAYLIGHT
BEGIN:STANDARD
TZOFFSETFROM:+0000
TZOFFSETTO:+0100
TZNAME:IST
DTSTART:20260329T010000
END:STANDARD
BEGIN:DAYLIGHT
TZOFFSETFROM:+0100
TZOFFSETTO:+0000
TZNAME:GMT
DTSTART:20261025T010000
END:DAYLIGHT
BEGIN:STANDARD
TZOFFSETFROM:+0000
TZOFFSETTO:+0100
TZNAME:IST
DTSTART:20270328T010000
END:STANDARD
BEGIN:DAYLIGHT
TZOFFSETFROM:+0100
TZOFFSETTO:+0000
TZNAME:GMT
DTSTART:20271031T010000
END:DAYLIGHT
END:VTIMEZONE
BEGIN:VEVENT
DTSTART;TZID=Europe/Dublin:20260920T080000
DTEND;TZID=Europe/Dublin:20260920T170000
DTSTAMP:20260422T041216
CREATED:20250811T073718Z
LAST-MODIFIED:20250811T073718Z
UID:256912-1789891200-1789923600@www.minorityawardsni.org.uk
SUMMARY:Queen's University Belfast hosts a New Arrival Welcome Workshop for incoming international students.
DESCRIPTION:
URL:https://www.minorityawardsni.org.uk/event/queens-university-belfast-hosts-a-new-arrival-welcome-workshop-for-incoming-international-students/
END:VEVENT
END:VCALENDAR