BEGIN:VCALENDAR
VERSION:2.0
PRODID:-//MRANI | Minorities Recognition Awards Northern Ireland - ECPv6.15.14//NONSGML v1.0//EN
CALSCALE:GREGORIAN
METHOD:PUBLISH
X-WR-CALNAME:MRANI | Minorities Recognition Awards Northern Ireland
X-ORIGINAL-URL:https://www.minorityawardsni.org.uk
X-WR-CALDESC:Events for MRANI | Minorities Recognition Awards Northern Ireland
REFRESH-INTERVAL;VALUE=DURATION:PT1H
X-Robots-Tag:noindex
X-PUBLISHED-TTL:PT1H
BEGIN:VTIMEZONE
TZID:Europe/Dublin
BEGIN:STANDARD
TZOFFSETFROM:+0000
TZOFFSETTO:+0100
TZNAME:IST
DTSTART:20250330T010000
END:STANDARD
BEGIN:DAYLIGHT
TZOFFSETFROM:+0100
TZOFFSETTO:+0000
TZNAME:GMT
DTSTART:20251026T010000
END:DAYLIGHT
BEGIN:STANDARD
TZOFFSETFROM:+0000
TZOFFSETTO:+0100
TZNAME:IST
DTSTART:20260329T010000
END:STANDARD
BEGIN:DAYLIGHT
TZOFFSETFROM:+0100
TZOFFSETTO:+0000
TZNAME:GMT
DTSTART:20261025T010000
END:DAYLIGHT
BEGIN:STANDARD
TZOFFSETFROM:+0000
TZOFFSETTO:+0100
TZNAME:IST
DTSTART:20270328T010000
END:STANDARD
BEGIN:DAYLIGHT
TZOFFSETFROM:+0100
TZOFFSETTO:+0000
TZNAME:GMT
DTSTART:20271031T010000
END:DAYLIGHT
END:VTIMEZONE
BEGIN:VEVENT
DTSTART;TZID=Europe/Dublin:20260606T120000
DTEND;TZID=Europe/Dublin:20260606T180000
DTSTAMP:20260421T164452
CREATED:20260317T065051Z
LAST-MODIFIED:20260418T105642Z
UID:257562-1780747200-1780768800@www.minorityawardsni.org.uk
SUMMARY:Africa Day Celebration
DESCRIPTION:A vibrant community gathering at Belfast City Hall to celebrate African culture\, heritage\, and the positive contributions of the diaspora to Northern Ireland \n.
URL:https://www.minorityawardsni.org.uk/event/africa-day-celebration/
LOCATION:Belfast City Hall\, United Kingdom
ORGANIZER;CN="MRANI":MAILTO:info@minorityawardsni.org.uk
END:VEVENT
END:VCALENDAR