BEGIN:VCALENDAR
VERSION:2.0
PRODID:-//MRANI | Minorities Recognition Awards Northern Ireland - ECPv6.15.14//NONSGML v1.0//EN
CALSCALE:GREGORIAN
METHOD:PUBLISH
X-WR-CALNAME:MRANI | Minorities Recognition Awards Northern Ireland
X-ORIGINAL-URL:https://www.minorityawardsni.org.uk
X-WR-CALDESC:Events for MRANI | Minorities Recognition Awards Northern Ireland
REFRESH-INTERVAL;VALUE=DURATION:PT1H
X-Robots-Tag:noindex
X-PUBLISHED-TTL:PT1H
BEGIN:VTIMEZONE
TZID:Europe/Dublin
BEGIN:STANDARD
TZOFFSETFROM:+0000
TZOFFSETTO:+0100
TZNAME:IST
DTSTART:20250330T010000
END:STANDARD
BEGIN:DAYLIGHT
TZOFFSETFROM:+0100
TZOFFSETTO:+0000
TZNAME:GMT
DTSTART:20251026T010000
END:DAYLIGHT
BEGIN:STANDARD
TZOFFSETFROM:+0000
TZOFFSETTO:+0100
TZNAME:IST
DTSTART:20260329T010000
END:STANDARD
BEGIN:DAYLIGHT
TZOFFSETFROM:+0100
TZOFFSETTO:+0000
TZNAME:GMT
DTSTART:20261025T010000
END:DAYLIGHT
BEGIN:STANDARD
TZOFFSETFROM:+0000
TZOFFSETTO:+0100
TZNAME:IST
DTSTART:20270328T010000
END:STANDARD
BEGIN:DAYLIGHT
TZOFFSETFROM:+0100
TZOFFSETTO:+0000
TZNAME:GMT
DTSTART:20271031T010000
END:DAYLIGHT
END:VTIMEZONE
BEGIN:VEVENT
DTSTART;TZID=Europe/Dublin:20260320T130000
DTEND;TZID=Europe/Dublin:20260320T143000
DTSTAMP:20260421T111038
CREATED:20250811T073425Z
LAST-MODIFIED:20260319T003617Z
UID:256906-1774011600-1774017000@www.minorityawardsni.org.uk
SUMMARY:Launch and Learn "how to nominate" workshop is held to guide potential nominators through the process. ( online)
DESCRIPTION:
URL:https://www.minorityawardsni.org.uk/event/a-launch-and-how-to-nominate-workshop-is-held-to-guide-potential-nominators-through-the-process-online/
END:VEVENT
END:VCALENDAR