BEGIN:VCALENDAR
VERSION:2.0
PRODID:-//MRANI | Minorities Recognition Awards Northern Ireland - ECPv6.15.14//NONSGML v1.0//EN
CALSCALE:GREGORIAN
METHOD:PUBLISH
X-WR-CALNAME:MRANI | Minorities Recognition Awards Northern Ireland
X-ORIGINAL-URL:https://www.minorityawardsni.org.uk
X-WR-CALDESC:Events for MRANI | Minorities Recognition Awards Northern Ireland
REFRESH-INTERVAL;VALUE=DURATION:PT1H
X-Robots-Tag:noindex
X-PUBLISHED-TTL:PT1H
BEGIN:VTIMEZONE
TZID:Europe/Dublin
BEGIN:STANDARD
TZOFFSETFROM:+0000
TZOFFSETTO:+0100
TZNAME:IST
DTSTART:20250330T010000
END:STANDARD
BEGIN:DAYLIGHT
TZOFFSETFROM:+0100
TZOFFSETTO:+0000
TZNAME:GMT
DTSTART:20251026T010000
END:DAYLIGHT
BEGIN:STANDARD
TZOFFSETFROM:+0000
TZOFFSETTO:+0100
TZNAME:IST
DTSTART:20260329T010000
END:STANDARD
BEGIN:DAYLIGHT
TZOFFSETFROM:+0100
TZOFFSETTO:+0000
TZNAME:GMT
DTSTART:20261025T010000
END:DAYLIGHT
BEGIN:STANDARD
TZOFFSETFROM:+0000
TZOFFSETTO:+0100
TZNAME:IST
DTSTART:20270328T010000
END:STANDARD
BEGIN:DAYLIGHT
TZOFFSETFROM:+0100
TZOFFSETTO:+0000
TZNAME:GMT
DTSTART:20271031T010000
END:DAYLIGHT
END:VTIMEZONE
BEGIN:VEVENT
DTSTART;TZID=Europe/Dublin:20260123T160000
DTEND;TZID=Europe/Dublin:20260123T180000
DTSTAMP:20260424T095257
CREATED:20260111T163052Z
LAST-MODIFIED:20260111T163109Z
UID:257501-1769184000-1769191200@www.minorityawardsni.org.uk
SUMMARY:Strategy to Execution: Turning Plans into Profit
DESCRIPTION:ABOUT THIS EVENT\n\n  \nThis is a Belfast City Council workshop in collaboration with the Minorities Business Network NI (MBNNI) and Go Succeed. \n  \nIt is designed to bridge the gap between high-level strategic planning and successful\, real-world implementation. We look to bring together Experts\, businesses and entrepreneurs to learn\, discuss and gain practical tools for turning ambitious visions into actionable outcomes. \nDate: Friday 23rd January 2026 \nVenue: Ulster Bank\,11 – 16 Donegall Square E\, Belfast BT1 5UB \nTime: Arrival & registration from 3:45pm. Workshop 4:00pm–6:00pm \n  \nThis is an opportunity to establish strong processes for accountability and action\, moving beyond theoretical strategy to commit to an actionable goal that will drive your business forward. This event is open to anyone with an existing business or those thinking of launching one. \n  \nWho Can Attend: \nThis event is for anyone who wants to learn how to put their ideas into action: \n\nShop owners and service providers\nPeople in creative or digital jobs\nFactory or trade business owners\nNew business people planning their launch\nAnyone who wants to grow their small or medium business\n\n​ Benefits of Attending: \n\nGet a clear plan to move from having ideas to finishing projects successfully.\nLearn simple ways to work better every day and stop wasting time or effort.\nUnderstand how to set clear expectations and check if your team is reaching important goals.\nDiscover how to use your network to keep each other accountable and ensure projects get done over time.\n\nThe event will cover topics on: \n\nDeveloping a clear project plan to move from having ideas to finishing projects successfully.\nBeing more efficient with simple ways to work better every day and stop wasting time or effort.\nSetting clear expectations for teamwork and check if your team is reaching important goals.\nUsing your network to keep each other accountable in the long-term and ensuring projects get done over time.\n\n  \nLight refreshments will be served. \nIf you have any dietary requirements or have any questions on accessibility please email INFO@www.minorityawardsni.org.uk
URL:https://www.minorityawardsni.org.uk/event/strategy-to-execution-turning-plans-into-profit/
ORGANIZER;CN="MRANI":MAILTO:info@minorityawardsni.org.uk
END:VEVENT
END:VCALENDAR