BEGIN:VCALENDAR
VERSION:2.0
PRODID:-//MRANI | Minorities Recognition Awards Northern Ireland - ECPv6.15.14//NONSGML v1.0//EN
CALSCALE:GREGORIAN
METHOD:PUBLISH
X-WR-CALNAME:MRANI | Minorities Recognition Awards Northern Ireland
X-ORIGINAL-URL:https://www.minorityawardsni.org.uk
X-WR-CALDESC:Events for MRANI | Minorities Recognition Awards Northern Ireland
REFRESH-INTERVAL;VALUE=DURATION:PT1H
X-Robots-Tag:noindex
X-PUBLISHED-TTL:PT1H
BEGIN:VTIMEZONE
TZID:Europe/Dublin
BEGIN:STANDARD
TZOFFSETFROM:+0000
TZOFFSETTO:+0100
TZNAME:IST
DTSTART:20250330T010000
END:STANDARD
BEGIN:DAYLIGHT
TZOFFSETFROM:+0100
TZOFFSETTO:+0000
TZNAME:GMT
DTSTART:20251026T010000
END:DAYLIGHT
BEGIN:STANDARD
TZOFFSETFROM:+0000
TZOFFSETTO:+0100
TZNAME:IST
DTSTART:20260329T010000
END:STANDARD
BEGIN:DAYLIGHT
TZOFFSETFROM:+0100
TZOFFSETTO:+0000
TZNAME:GMT
DTSTART:20261025T010000
END:DAYLIGHT
BEGIN:STANDARD
TZOFFSETFROM:+0000
TZOFFSETTO:+0100
TZNAME:IST
DTSTART:20270328T010000
END:STANDARD
BEGIN:DAYLIGHT
TZOFFSETFROM:+0100
TZOFFSETTO:+0000
TZNAME:GMT
DTSTART:20271031T010000
END:DAYLIGHT
END:VTIMEZONE
BEGIN:VEVENT
DTSTART;TZID=Europe/Dublin:20260116T160000
DTEND;TZID=Europe/Dublin:20260116T180000
DTSTAMP:20260424T200716
CREATED:20260111T163349Z
LAST-MODIFIED:20260111T163402Z
UID:257504-1768579200-1768586400@www.minorityawardsni.org.uk
SUMMARY:Connect and Learn: For All Entrepreneurs and Business Owners
DESCRIPTION:ABOUT THIS EVENT\n\n  \nConnect and Learn: For All Entrepreneurs and Business Owners \n  \nDate: Friday 16th January 2026 \nVenue: Ulster Bank\,11 – 16 Donegall Square E\, Belfast BT1 5UB \nTime: Arrival & Registration from 3:45pm (Prime Networking Time). Workshop runs 4:00pm–6:00pm \n  \nThis is a Belfast City Council workshop in collaboration with the Minorities Business Network NI (MBNNI) and Go Succeed. \nIt focuses on establishing a strong foundation of trust and shared knowledge. This is a vital opportunity to connect with peers\, exchange valuable insights\, and collaborate on actionable goals that propel everyone’s business forward. \n Who can attend? \n\nRetail owners\, service providers\, and creative professionals\nDigital specialists\, manufacturers. and trade business owners\nNew entrepreneurs exploring a business concept\nAnyone planning to launch or grow an SME and needs connections\n\n Benefits of attending \n\nMake Friends: Meet and talk to many other business owners in Belfast.\nSwap Ideas: Share your experiences and learn from others to help everyone in the city do better.\nFind Help: Discover people you can work with\, sell to\, or learn from.\nGrow Your Business: Get simple tools and new contacts to move your business ahead.\nRun Better: Make your business plans stronger and work more smoothly every day.\nStay Legal: Feel sure you understand the important rules and laws for your type of business.\nBe More Efficient: Learn how to get ready for growth and run your daily work better.\n\nThe event will cover topics on:  \n\nLearning how to build trust and share knowledge with other business owners.\nFinding key chances to meet others and swap useful ideas.\nDeciding on a clear\, single goal to help your business grow.\nMaking your business run better and improve your professional skills.\nUnderstanding compliance and governance\nGetting useful tips to make your everyday work easier and build good working relationships with people.\n\n\nLight refreshments will be served.
URL:https://www.minorityawardsni.org.uk/event/connect-and-learn-for-all-entrepreneurs-and-business-owners/
ORGANIZER;CN="MRANI":MAILTO:info@minorityawardsni.org.uk
END:VEVENT
END:VCALENDAR